BEGIN:VCALENDAR
VERSION:2.0
PRODID:-//Library Market//iCal Export//EN
BEGIN:VEVENT
SUMMARY:Friends of the Library General Meeting &amp; Summer Picnic Bingo
UID:171721
DTSTAMP:20260423T003900Z
DTSTART:20260606T153000Z
DTEND:20260606T173000Z
LOCATION:Longwood Public Library, 800 Middle Country Road, Middle Island, 
 NY 11953, United States
ROOM: Community Room
DESCRIPTION:Join the Friends of the Library for their General Meeting foll
 owed by a fun, picnic-themed game of bingo. Enjoy a relaxed gathering with
  light refreshments, great company, and a chance to win prizes.The General
  Meeting is open to all.Summer Picnic Bingo is limited to current Friends 
 members.Registration Details:• Registration opens Friday, May 1• Regis
 tration closes Monday, June 1Friends Membership Registration Limits:• In
 dividual/Lifetime Membership: 1 registration• Family Membership: Up to 2
  members from the same householdHow to Register for the Picnic Bingo: •
  Call (631) 924-6400 ext. 250• Register in person at the Adult or Inform
 ation DeskNot a Friends member? You’re welcome to join!• Become a Frie
 nds member online• Visit the library to sign upHero sandwiches will be s
 erved.
URL:https://www.longwoodlibrary.org/event/friends-library-general-meeting-
 171721
END:VEVENT
END:VCALENDAR
