BEGIN:VCALENDAR
VERSION:2.0
PRODID:-//Library Market//iCal Export//EN
BEGIN:VEVENT
SUMMARY:Dinos and Democracy The Musical
UID:178282
DTSTAMP:20260421T045700Z
DTSTART:20260723T183000Z
DTEND:20260723T200000Z
LOCATION:Longwood Public Library, 800 Middle Country Road, Middle Island, 
 NY 11953, United States
ROOM: Community Room
DESCRIPTION:Join the Children&#039;s and Teen Department players in this m
 usical comedy, Dinos and Democracy in celebration of both America250 and o
 ur Summer Reading Challenge theme, dinosaurs! 
URL:https://www.longwoodlibrary.org/event/dinos-and-democracy-musical-1782
 82
END:VEVENT
END:VCALENDAR
