BEGIN:VCALENDAR
VERSION:2.0
PRODID:-//Library Market//iCal Export//EN
BEGIN:VEVENT
SUMMARY:Battle Representatives Meeting (Teens)
UID:182335
DTSTAMP:20260421T032000Z
DTSTART:20260805T190000Z
DTEND:20260805T200000Z
LOCATION:Longwood Public Library, 800 Middle Country Road, Middle Island, 
 NY 11953, United States
ROOM: Teen Program Room
DESCRIPTION:This meeting is for the 2026 Summer Battle of the Books team t
 o practice for the main event. 
URL:https://www.longwoodlibrary.org/event/battle-representatives-meeting-t
 eens-182335
END:VEVENT
END:VCALENDAR
