BEGIN:VCALENDAR
VERSION:2.0
PRODID:-//Library Market//iCal Export//EN
BEGIN:VEVENT
SUMMARY:Teen Surprise Boxes (Teens)
UID:184044
DTSTAMP:20260421T123800Z
DTSTART:20260710T040000Z
DTEND:20260710T040000Z
LOCATION:Longwood Public Library, 800 Middle Country Road, Middle Island, 
 NY 11953, United States
ROOM: True North Teen Department
DESCRIPTION:Join our TeenÂ SurpriseÂ BoxÂ Program â€“ the ultimate thrill 
 for book-loving teens! Each themedÂ boxÂ contains not one, but TWO careful
 ly curated books based on a questionnaire you answer for a blind-boxÂ styl
 e selection. From there we&#039;ll add snacks and mystery goodies to yourÂ
  boxÂ chosen just for YOU! Unbox at home to see what funÂ surprises await 
 you! Only return the books when they are due. The rest is yours to keep!Â 
 Register online, in-person, or by phone between June 26th and July 3rd. Yo
 u may pick up your surprise box beginning July 10th.Check your registratio
 n confirmation email for the link to the survey you must fill out.Â 
URL:https://www.longwoodlibrary.org/event/teen-surprise-boxes-teens-184044
END:VEVENT
END:VCALENDAR
