BEGIN:VCALENDAR
VERSION:2.0
PRODID:-//Library Market//iCal Export//EN
BEGIN:VEVENT
SUMMARY:Teen Writing Workshop: Hamilton-Inspired Rhyme and Lyric (Teens)
UID:184384
DTSTAMP:20260421T032600Z
DTSTART:20260804T230000Z
DTEND:20260805T000000Z
LOCATION:Longwood Public Library, 800 Middle Country Road, Middle Island, 
 NY 11953, United States
ROOM: Kovarik Room
DESCRIPTION:Get inspired with other teen writers in this workshop all abou
 t sharpening your rhyming, lyrical, and poetic skills! Using Hamilton and 
 other examples in hip-hop, rap, and poetry, practice writing and participa
 te in fun creative exercises at the library. 
URL:https://www.longwoodlibrary.org/event/teen-writing-workshop-teens-1843
 84
END:VEVENT
END:VCALENDAR
