BEGIN:VCALENDAR
VERSION:2.0
PRODID:-//Library Market//iCal Export//EN
BEGIN:VEVENT
SUMMARY:The Book Nook: Book Club for Grades 10-12 (Teen)
UID:184387
DTSTAMP:20260421T032600Z
DTSTART:20260828T230000Z
DTEND:20260829T000000Z
LOCATION:Longwood Public Library, 800 Middle Country Road, Middle Island, 
 NY 11953, United States
ROOM: Clemens Room
DESCRIPTION:Come join our book club for 10th, 11th, and 12th graders! Weâ€
 ™ll talk about what you did and didnâ€™t like, play games, and eat snacks.
  Youâ€™ll earn community service by helping us create a review spotlightin
 g the book at the end of the program. Pick up a copy of the book in the Te
 en Services Department when you register. This month weâ€™ll discuss:Â Sky
 ward by Brandon SandersonWhen a long-term attack against her world by the 
 alien Krell escalates, Spensa&#039;s dream of becoming a pilot may come tr
 ue.A certificate for 3 hours of community service will be awarded.Â 
URL:https://www.longwoodlibrary.org/event/summer-treatwave-teen-184387
END:VEVENT
END:VCALENDAR
