BEGIN:VCALENDAR
VERSION:2.0
PRODID:-//Library Market//iCal Export//EN
BEGIN:VEVENT
SUMMARY:Back-to-School Reusable Lunch bags (Teens)
UID:184428
DTSTAMP:20260421T032600Z
DTSTART:20260821T223000Z
DTEND:20260822T000000Z
LOCATION:Longwood Public Library, 800 Middle Country Road, Middle Island, 
 NY 11953, United States
ROOM: makerLAB
DESCRIPTION:Design a lunch bag for yourself and make one to donate to stud
 ents in need in our makerLAB! Participants will earn 1.5 hours of communit
 y service. 
URL:https://www.longwoodlibrary.org/event/back-school-reusable-lunch-bags-
 teens-184428
END:VEVENT
END:VCALENDAR
