BEGIN:VCALENDAR
VERSION:2.0
PRODID:-//Library Market//iCal Export//EN
BEGIN:VEVENT
SUMMARY:Console Clash: Summer Series (Teens)
UID:184431
DTSTAMP:20260421T032600Z
DTSTART:20260805T230000Z
DTEND:20260806T000000Z
LOCATION:Longwood Public Library, 800 Middle Country Road, Middle Island, 
 NY 11953, United States
ROOM: True North Teen Department
DESCRIPTION:Face off against your friends in this videogame challenge that
  tests your skills to see who will walk away the ultimate champion! Find o
 ut which console and which game we&#039;ll be playing when you arrive. Ear
 n a collectible tag for each weekly session you compete in!
URL:https://www.longwoodlibrary.org/event/console-clash-summer-series-teen
 s-184431
END:VEVENT
END:VCALENDAR
