BEGIN:VCALENDAR
VERSION:2.0
PRODID:-//Library Market//iCal Export//EN
BEGIN:VEVENT
SUMMARY:Board Game Club
UID:185806
DTSTAMP:20260422T102700Z
DTSTART:20260703T230000Z
DTEND:20260704T003000Z
LOCATION:Longwood Public Library, 800 Middle Country Road, Middle Island, 
 NY 11953, United States
ROOM: Kovarik Room
DESCRIPTION:Whether you&#039;re a strategic mastermind, a social gamer, or
  just looking to have fun, come together to explore new or known games, me
 et fellow enthusiasts, and enjoy some friendly competition. Games will be 
 provided, but feel free to bring your own favorite finds to share! 
URL:https://www.longwoodlibrary.org/event/board-game-club-185806
END:VEVENT
END:VCALENDAR
