BEGIN:VCALENDAR
VERSION:2.0
PRODID:-//Library Market//iCal Export//EN
BEGIN:VEVENT
SUMMARY:Knight Life Chess Club (Teens)
UID:185817
DTSTAMP:20260421T125800Z
DTSTART:20260813T200000Z
DTEND:20260813T210000Z
LOCATION:Longwood Public Library, 800 Middle Country Road, Middle Island, 
 NY 11953, United States
ROOM: Kovarik Room
DESCRIPTION:Join us for a fun and engaging chess meet-up just for teens! T
 ry your hand at chess puzzles, play friendly games with other players, and
  sharpen your skills by learning openings and tactics. All skill levels we
 lcome — from beginners to future grandmasters!
URL:https://www.longwoodlibrary.org/event/knight-life-chess-club-teens-185
 817
END:VEVENT
END:VCALENDAR
